BEGIN:VCALENDAR
VERSION:2.0
PRODID:SchoolNow
CALSCALE:GREGORIAN
BEGIN:VEVENT
UID:49b20180-7996-11ee-b46a-0a58a9feac02
DTSTAMP:20231106T182805Z
SUMMARY:Healthy Eagles - Student Resources
URL;VALUE=URI:https://www.frc.edu/student-success-programs/basic-needs/cale
 ndar/4922453/healthy-eagles-student-resources
DTSTART:20231101T150000Z
DTEND:20231114T210000Z
END:VEVENT
END:VCALENDAR
