BEGIN:VCALENDAR
VERSION:2.0
PRODID:SchoolNow
CALSCALE:GREGORIAN
BEGIN:VEVENT
UID:784f8de6-738d-11ee-ad7d-0a58a9feac02
DTSTAMP:20231025T233032Z
SUMMARY:Stress Management and Seasonal Wellness Workshop
URL;VALUE=URI:https://www.frc.edu/student-success-programs/basic-needs/cale
 ndar/4900691/stress-management-and-seasonal-wellness-workshop
DTSTART:20231101T190000Z
DTEND:20231101T200000Z
ATTACH;FILENAME=Stress Management Workshop .pdf;FMTTYPE=application/pdf:htt
 ps://campussuite-storage.s3.amazonaws.com/prod/1558523/0672826e-a84b-11e7-
 9779-0ae3e1d9783c/2687287/4f57ab6c-738d-11ee-8993-0a58a9feac02/file/Stress
  Management Workshop .pdf
END:VEVENT
END:VCALENDAR
