BEGIN:VCALENDAR
VERSION:2.0
PRODID:SchoolNow
CALSCALE:GREGORIAN
BEGIN:VEVENT
UID:a471436c-5d8d-11ee-9c58-0a285ed6a1ef
DTSTAMP:20230927T232902Z
SUMMARY:PJ's\, Pancakes & Pumpkins
LOCATION:Perch & Student Lounge
URL;VALUE=URI:https://www.frc.edu/student-success-programs/basic-needs/cale
 ndar/4803673/pjs-pancakes-pumpkins
DTSTART:20231010T010000Z
DTEND:20231010T030000Z
ATTACH;FILENAME=Pj's Pancakes and Pumpkins.jpg;FMTTYPE=image/jpeg:https://c
 ampussuite-storage.s3.amazonaws.com/prod/1558523/0672826e-a84b-11e7-9779-0
 ae3e1d9783c/2670548/723ccbb4-5d8d-11ee-8154-0a285ed6a1ef/file/Pj's Pancake
 s and Pumpkins.jpg
END:VEVENT
END:VCALENDAR
