BEGIN:VCALENDAR
VERSION:2.0
PRODID:SchoolNow
CALSCALE:GREGORIAN
BEGIN:VEVENT
UID:c97e7790-580d-11ee-93f0-0e6120933f63
DTSTAMP:20230921T153809Z
SUMMARY:Pancake Breakfast Meal Kit Scavenger Hunt
LOCATION:Basic Needs Center
URL;VALUE=URI:https://www.frc.edu/student-success-programs/basic-needs/cale
 ndar/4768890/pancake-breakfast-meal-kit-scavenger-hunt
DTSTART;VALUE=DATE:20231017
DTEND;VALUE=DATE:20231018
END:VEVENT
END:VCALENDAR
