BEGIN:VCALENDAR
VERSION:2.0
PRODID:SchoolNow
CALSCALE:GREGORIAN
BEGIN:VEVENT
UID:0862b976-57dc-11ee-8f07-0a58a9feac02
DTSTAMP:20230920T173504Z
SUMMARY:Workshop: Eating Healthy on a Budget/Applying for CalFresh
LOCATION:TRiO Lab (Student Services Building)
URL;VALUE=URI:https://www.frc.edu/student-success-programs/basic-needs/cale
 ndar/4766558/workshop-banking-establishing-credit-and-filling-out-taxes-cl
 one-clone
DTSTART:20231004T190000Z
DTEND:20231004T200000Z
END:VEVENT
END:VCALENDAR
