BEGIN:VCALENDAR
VERSION:2.0
PRODID:SchoolNow
CALSCALE:GREGORIAN
BEGIN:VEVENT
UID:b95be966-5721-11ee-88ae-0a58a9feac02
DTSTAMP:20230919T192319Z
SUMMARY:Free Lunch for Students
LOCATION:The Perch
URL;VALUE=URI:https://www.frc.edu/student-success-programs/basic-needs/cale
 ndar/4760818/free-lunch-clone-clone
DTSTART:20231012T180000Z
DTEND:20231012T210000Z
END:VEVENT
END:VCALENDAR
