BEGIN:VCALENDAR
VERSION:2.0
PRODID:SchoolNow
CALSCALE:GREGORIAN
BEGIN:VEVENT
UID:63c11e4a-5721-11ee-8114-0ad554c62dc1
DTSTAMP:20230919T192327Z
SUMMARY:Free Lunch for Students
LOCATION:The Perch
URL;VALUE=URI:https://www.frc.edu/student-success-programs/basic-needs/cale
 ndar/4760815/free-lunch-clone
DTSTART:20230928T180000Z
DTEND:20230928T210000Z
END:VEVENT
END:VCALENDAR
