BEGIN:VCALENDAR
VERSION:2.0
PRODID:SchoolNow
CALSCALE:GREGORIAN
BEGIN:VEVENT
UID:0b4949e6-e916-11ed-8b34-0a8f7df0cecf
DTSTAMP:20230502T210308Z
SUMMARY:Student Webinar: Stress-Free Strategies for End of Year
LOCATION:Zoom Webinar
URL;VALUE=URI:https://www.frc.edu/student-success-programs/basic-needs/cale
 ndar/4169296/student-webinar-stress-free-strategies-for-end-of-year
DTSTART:20230510T173000Z
DTEND:20230510T183000Z
ATTACH;FILENAME=Stress Free Strategies Webinar Email.png;FMTTYPE=image/png:
 https://campussuite-storage.s3.amazonaws.com/prod/1558523/0672826e-a84b-11
 e7-9779-0ae3e1d9783c/2586978/ee64326a-e914-11ed-9b73-0ada13b80bb7/file/Str
 ess Free Strategies Webinar Email.png
END:VEVENT
END:VCALENDAR
