BEGIN:VCALENDAR
VERSION:2.0
PRODID:SchoolNow
CALSCALE:GREGORIAN
BEGIN:VEVENT
UID:54986d54-d573-11ed-9e67-0af517cde9bd
DTSTAMP:20230508T230820Z
SUMMARY:Food for Finals Grab Bag
LOCATION:Mental Health & Wellness Center
URL;VALUE=URI:https://www.frc.edu/student-success-programs/basic-needs/cale
 ndar/4002653/food-for-finals
DTSTART:20230509T160000Z
DTEND:20230509T230000Z
ATTACH;FILENAME=Grab Bag Food for Finals .png;FMTTYPE=image/png:https://cam
 pussuite-storage.s3.amazonaws.com/prod/1558523/0672826e-a84b-11e7-9779-0ae
 3e1d9783c/2580436/b1dcd206-dd49-11ed-82f6-0e4d10259a7d/file/Grab Bag Food 
 for Finals .png
END:VEVENT
END:VCALENDAR
