BEGIN:VCALENDAR
VERSION:2.0
PRODID:SchoolNow
CALSCALE:GREGORIAN
BEGIN:VEVENT
UID:3f66d19e-c75b-11ed-9650-0af9c73750b9
DTSTAMP:20230327T225736Z
SUMMARY:Dairy Day
LOCATION:Mental Health & Wellness Center
URL;VALUE=URI:https://www.frc.edu/student-success-programs/basic-needs/cale
 ndar/3899178/dairy-day
DTSTART;VALUE=DATE:20230328
DTEND;VALUE=DATE:20230329
ATTACH;FILENAME=CalFresh Dairy Day_FINAL.jpg;FMTTYPE=image/jpeg:https://cam
 pussuite-storage.s3.amazonaws.com/prod/1558523/0672826e-a84b-11e7-9779-0ae
 3e1d9783c/2571955/3347602a-c9a1-11ed-b3a1-02ea0b79bfd3/file/CalFresh Dairy
  Day_FINAL.jpg
END:VEVENT
END:VCALENDAR
