BEGIN:VCALENDAR
VERSION:2.0
PRODID:SchoolNow
CALSCALE:GREGORIAN
BEGIN:VEVENT
UID:661ee8fc-48b3-11ed-be39-02a62c8ca739
DTSTAMP:20221010T155126Z
SUMMARY:CalFresh Scavenger Hunt
LOCATION:Mental Health and Wellness Center
URL;VALUE=URI:https://www.frc.edu/student-success-programs/basic-needs/cale
 ndar/3504956/calfresh-scavenger-hunt
DTSTART;VALUE=DATE:20221101
DTEND;VALUE=DATE:20221103
END:VEVENT
END:VCALENDAR
