BEGIN:VCALENDAR
VERSION:2.0
PRODID:SchoolNow
CALSCALE:GREGORIAN
BEGIN:VEVENT
UID:9986a340-3db6-11ed-8e18-0a4ab8aba157
DTSTAMP:20220926T161835Z
SUMMARY:CalFresh Workshop
LOCATION:Computer Lab 201
URL;VALUE=URI:https://www.frc.edu/student-success-programs/basic-needs/cale
 ndar/3446125/calfresh-workshop
DTSTART:20221005T000000Z
DTEND:20221005T010000Z
ATTACH;FILENAME=CalFresh Workshop_FA22_FINAL.pdf;FMTTYPE=application/pdf:ht
 tps://campussuite-storage.s3.amazonaws.com/prod/1558523/0672826e-a84b-11e7
 -9779-0ae3e1d9783c/2482196/cd703de8-3db5-11ed-aea9-0a320b65eb6d/file/CalFr
 esh Workshop_FA22_FINAL.pdf
END:VEVENT
END:VCALENDAR
