BEGIN:VCALENDAR
VERSION:2.0
PRODID:SchoolNow
CALSCALE:GREGORIAN
BEGIN:VEVENT
UID:7a09117a-006c-11f1-a728-0affd2bf4797
DTSTAMP:20260202T192212Z
SUMMARY:Forest Therapy with Chico State
LOCATION:Meet at Student Wellness and Success Center (Bldg. 6)
URL;VALUE=URI:https://www.frc.edu/mentalhealth/calendar/8847991/forest-ther
 apy-clone-clone-clone-clone-clone
DTSTART:20260303T210000Z
DTEND:20260303T220000Z
END:VEVENT
END:VCALENDAR
