BEGIN:VCALENDAR
VERSION:2.0
PRODID:SchoolNow
CALSCALE:GREGORIAN
BEGIN:VEVENT
UID:6ad64ede-006c-11f1-a3f2-0a58a9feac02
DTSTAMP:20260202T192147Z
SUMMARY:Forest Therapy with Chico State
LOCATION:Meet at Student Wellness and Success Center (Bldg. 6)
URL;VALUE=URI:https://www.frc.edu/mentalhealth/calendar/8847989/forest-ther
 apy-clone-clone-clone-clone
DTSTART:20260303T190000Z
DTEND:20260303T200000Z
END:VEVENT
END:VCALENDAR
