BEGIN:VCALENDAR
VERSION:2.0
PRODID:SchoolNow
CALSCALE:GREGORIAN
BEGIN:VEVENT
UID:0bad98f6-fae3-11f0-8b6f-0a58a9feac02
DTSTAMP:20260311T185507Z
SUMMARY:Gentle Stretching & Yoga
LOCATION:Library
URL;VALUE=URI:https://www.frc.edu/mentalhealth/calendar/8840731/gentle-stre
 tching-and-yoga
DTSTART:20260320T190000Z
DTEND:20260320T193000Z
END:VEVENT
END:VCALENDAR
