BEGIN:VCALENDAR
VERSION:2.0
PRODID:SchoolNow
CALSCALE:GREGORIAN
BEGIN:VEVENT
UID:b7ab0bde-efd5-11f0-a50f-0affeea2f31f
DTSTAMP:20260112T164243Z
SUMMARY:Denim Day 2026
LOCATION:Upper Green in front of the Perch
URL;VALUE=URI:https://www.frc.edu/mentalhealth/calendar/8834994/denim-day-c
 lone
DTSTART:20260429T180000Z
DTEND:20260429T200000Z
END:VEVENT
END:VCALENDAR
