BEGIN:VCALENDAR
VERSION:2.0
PRODID:SchoolNow
CALSCALE:GREGORIAN
BEGIN:VEVENT
UID:a8a8bab6-eb3c-11f0-b738-0a58a9feac02
DTSTAMP:20260112T100241Z
SUMMARY:Enter to win a $25 Amazon Gift Card with TimelyCare
URL;VALUE=URI:https://www.frc.edu/mentalhealth/calendar/8831936/enter-to-wi
 n-a-25-amazon-gift-card-with-timelycare-clone
DTSTART:20260116T160000Z
DTEND:20260127T075900Z
END:VEVENT
END:VCALENDAR
