BEGIN:VCALENDAR
VERSION:2.0
PRODID:SchoolNow
CALSCALE:GREGORIAN
BEGIN:VEVENT
UID:50db1e32-c599-11f0-b25f-0afff9ea838f
DTSTAMP:20251201T171214Z
SUMMARY:Forest Therapy with Chico State
LOCATION:Meet at the Library
URL;VALUE=URI:https://www.frc.edu/mentalhealth/calendar/8804398/forest-ther
 apy-clone-clone
DTSTART:20251203T180000Z
DTEND:20251204T070000Z
END:VEVENT
END:VCALENDAR
