BEGIN:VCALENDAR
VERSION:2.0
PRODID:SchoolNow
CALSCALE:GREGORIAN
BEGIN:VEVENT
UID:a254a3fc-c592-11f0-bf4e-0affdcfcd8a3
DTSTAMP:20251119T220854Z
SUMMARY:Stress Less for Finals Week
LOCATION:Student Wellness and Success Center
URL;VALUE=URI:https://www.frc.edu/mentalhealth/calendar/8804382/stress-less
 -for-finals-week-clone-clone
DTSTART:20251201T163000Z
DTEND:20251213T003000Z
END:VEVENT
END:VCALENDAR
