BEGIN:VCALENDAR
VERSION:2.0
PRODID:SchoolNow
CALSCALE:GREGORIAN
BEGIN:VEVENT
UID:246b10ea-c004-11f0-92b6-0afffa06ec9d
DTSTAMP:20251112T201407Z
SUMMARY:Great American Smokeout - Free Lunch
LOCATION:Eagles Perch
URL;VALUE=URI:https://www.frc.edu/mentalhealth/calendar/8792106/great-ameri
 can-smokeout-free-lunch
DTSTART:20251120T190000Z
DTEND:20251120T220000Z
END:VEVENT
END:VCALENDAR
