BEGIN:VCALENDAR
VERSION:2.0
PRODID:SchoolNow
CALSCALE:GREGORIAN
BEGIN:VEVENT
UID:b343ce6e-a2d7-11f0-ac9d-0e1d0a794d81
DTSTAMP:20251010T182500Z
SUMMARY:Supporting Student Wellness: Harm Reduction Strategies for Tobacco 
 and Nicotine Use
LOCATION:Room 605 - Come to the Student Wellness and Success Center
URL;VALUE=URI:https://www.frc.edu/mentalhealth/calendar/8699597/supporting-
 student-wellness-harm-reduction-strategies-for-tobacco-and-nicotine-use
DTSTART:20251017T190000Z
DTEND:20251017T200000Z
END:VEVENT
END:VCALENDAR
