BEGIN:VCALENDAR
VERSION:2.0
PRODID:SchoolNow
CALSCALE:GREGORIAN
BEGIN:VEVENT
UID:42da3218-820b-11f0-8b1c-0affee066179
DTSTAMP:20250825T232852Z
SUMMARY:Create Climb and Connect
LOCATION:Art Studio
URL;VALUE=URI:https://www.frc.edu/mentalhealth/calendar/8542647/create-and-
 connect-art-night-for-suicide-prevention-month-clone
DTSTART:20250929T230000Z
DTEND:20250930T020000Z
END:VEVENT
END:VCALENDAR
