BEGIN:VCALENDAR
VERSION:2.0
PRODID:SchoolNow
CALSCALE:GREGORIAN
BEGIN:VEVENT
UID:f4899cda-8204-11f0-b771-0a58a9feac02
DTSTAMP:20250825T225024Z
SUMMARY:Forest Therapy with Chico State
LOCATION:Student Wellness and Success Center
URL;VALUE=URI:https://www.frc.edu/mentalhealth/calendar/8542590/forest-ther
 apy-clone
DTSTART:20250909T160000Z
DTEND:20250909T220000Z
END:VEVENT
END:VCALENDAR
