BEGIN:VCALENDAR
VERSION:2.0
PRODID:SchoolNow
CALSCALE:GREGORIAN
BEGIN:VEVENT
UID:40ff8db4-29e9-11f0-9b75-0a58a9feac02
DTSTAMP:20250507T183657Z
SUMMARY:Free Ice Cream - Stress Less Week
LOCATION:Upper Green
URL;VALUE=URI:https://www.frc.edu/mentalhealth/calendar/8072860/yoga-on-the
 -green-stress-less-week-clone
DTSTART:20250515T180000Z
DTEND:20250515T190000Z
END:VEVENT
END:VCALENDAR
