BEGIN:VCALENDAR
VERSION:2.0
PRODID:SchoolNow
CALSCALE:GREGORIAN
BEGIN:VEVENT
UID:0842840e-29e9-11f0-bd39-0a58a9feac02
DTSTAMP:20250507T190000Z
SUMMARY:Breathe with Brea - Stress Less Week
LOCATION:Upper Green by the Perch
URL;VALUE=URI:https://www.frc.edu/mentalhealth/calendar/8072858/breathe-wit
 h-bre-stress-less-week-clone
DTSTART:20250513T190000Z
DTEND:20250513T191500Z
END:VEVENT
END:VCALENDAR
