BEGIN:VCALENDAR
VERSION:2.0
PRODID:SchoolNow
CALSCALE:GREGORIAN
BEGIN:VEVENT
UID:b6850560-29e8-11f0-94e3-0a58a9feac02
DTSTAMP:20250507T183642Z
SUMMARY:Yoga on the Green with Saraha - Stress Less Week
LOCATION:Upper Green
URL;VALUE=URI:https://www.frc.edu/mentalhealth/calendar/8072854/yoga-on-the
 -green-stress-less-week
DTSTART:20250514T185000Z
DTEND:20250514T193000Z
END:VEVENT
END:VCALENDAR
