BEGIN:VCALENDAR
VERSION:2.0
PRODID:SchoolNow
CALSCALE:GREGORIAN
BEGIN:VEVENT
UID:e90fe114-29cd-11f0-be40-02d28d33b207
DTSTAMP:20250505T171910Z
SUMMARY:FREE Dance and Movement Classes for Students
LOCATION:Rhythm and Grace Dance Studio
URL;VALUE=URI:https://www.frc.edu/mentalhealth/calendar/8071283/free-dance-
 and-movement-classes-for-students-clone
DTSTART:20250505T150000Z
DTEND:20250531T013000Z
END:VEVENT
END:VCALENDAR
