BEGIN:VCALENDAR
VERSION:2.0
PRODID:SchoolNow
CALSCALE:GREGORIAN
BEGIN:VEVENT
UID:f6b170c6-1573-11f0-884f-02b37bb1b8e5
DTSTAMP:20250409T185423Z
SUMMARY:Denim Day
LOCATION:Upper Green in front of the Perch
URL;VALUE=URI:https://www.frc.edu/mentalhealth/calendar/7887654/denim-day
DTSTART:20250430T180000Z
DTEND:20250430T200000Z
END:VEVENT
END:VCALENDAR
