BEGIN:VCALENDAR
VERSION:2.0
PRODID:SchoolNow
CALSCALE:GREGORIAN
BEGIN:VEVENT
UID:40bf2844-13d9-11f0-aba5-0a58a9feac02
DTSTAMP:20250407T175346Z
SUMMARY:Grad Cap Decorating
LOCATION:Student Wellness and Success Center
URL;VALUE=URI:https://www.frc.edu/mentalhealth/calendar/7871878/grad-cap-de
 corating-clone-clone
DTSTART:20250512T153000Z
DTEND:20250522T230000Z
END:VEVENT
END:VCALENDAR
