BEGIN:VCALENDAR
VERSION:2.0
PRODID:SchoolNow
CALSCALE:GREGORIAN
BEGIN:VEVENT
UID:a1e5c82a-09ad-11f0-a96a-0ea4eaec7451
DTSTAMP:20250325T222311Z
SUMMARY:Forest Therapy with Chico State
LOCATION:Student Wellness and Success Center
URL;VALUE=URI:https://www.frc.edu/mentalhealth/calendar/7771197/forest-ther
 apy
DTSTART:20250424T200000Z
DTEND:20250424T220000Z
ATTACH;FILENAME=Eco Therapy.pdf;FMTTYPE=application/pdf:https://campussuite
 -storage.s3.amazonaws.com/prod/1558523/0672826e-a84b-11e7-9779-0ae3e1d9783
 c/2932352/8daccf8e-09ad-11f0-8041-0afffb05a5fd/file/Eco Therapy.pdf
END:VEVENT
END:VCALENDAR
