BEGIN:VCALENDAR
VERSION:2.0
PRODID:SchoolNow
CALSCALE:GREGORIAN
BEGIN:VEVENT
UID:c37d8dfc-f61f-11ef-af4e-02e483a5b1e9
DTSTAMP:20250228T220255Z
SUMMARY:Pop Up Coffee Bar with Mental Health
LOCATION:Student Wellness and Success Center
URL;VALUE=URI:https://www.frc.edu/mentalhealth/calendar/7572106/coffee-brea
 k-connection-clone
DTSTART:20250312T170000Z
DTEND:20250312T180000Z
END:VEVENT
END:VCALENDAR
