BEGIN:VCALENDAR
VERSION:2.0
PRODID:SchoolNow
CALSCALE:GREGORIAN
BEGIN:VEVENT
UID:2e7dda14-ee2b-11ef-95e9-0ebb6b56721d
DTSTAMP:20250224T162943Z
SUMMARY:FREE Dance and Movement Classes for Students
LOCATION:Rhythm and Grace Dance Studio
URL;VALUE=URI:https://www.frc.edu/mentalhealth/calendar/7494087/free-dance-
 and-movement-classes-for-students
DTSTART:20250224T160000Z
DTEND:20250302T023000Z
ATTACH;FILENAME=476438048_1118053420020125_6976239551081548726_n.jpg;FMTTYP
 E=image/jpeg:https://campussuite-storage.s3.amazonaws.com/prod/1558523/067
 2826e-a84b-11e7-9779-0ae3e1d9783c/2918743/52a5dcb6-f2cc-11ef-adfe-0a58a9fe
 ac02/file/476438048_1118053420020125_6976239551081548726_n.jpg
END:VEVENT
END:VCALENDAR
