BEGIN:VCALENDAR
VERSION:2.0
PRODID:SchoolNow
CALSCALE:GREGORIAN
BEGIN:VEVENT
UID:91db5b84-e3e7-11ef-b5ad-0a58a9feac02
DTSTAMP:20250205T173953Z
SUMMARY:Valentines Making Drop In Event with ASFRC and Mental Health
LOCATION:Student Wellness and Success Center
URL;VALUE=URI:https://www.frc.edu/mentalhealth/calendar/7427644/valentines-
 making-drop-in-event-with-asfrc-and-mental-health
DTSTART:20250212T170000Z
DTEND:20250213T000000Z
END:VEVENT
END:VCALENDAR
