BEGIN:VCALENDAR
VERSION:2.0
PRODID:SchoolNow
CALSCALE:GREGORIAN
BEGIN:VEVENT
UID:afda8952-b359-11ef-8f19-0a58a9feac02
DTSTAMP:20241205T223845Z
SUMMARY:De-Stress for Finals Week
LOCATION:Student Wellness and Success Center
URL;VALUE=URI:https://www.frc.edu/mentalhealth/calendar/7127946/de-stress-f
 or-finals-week
DTSTART:20241209T170000Z
DTEND:20241214T000000Z
END:VEVENT
END:VCALENDAR
