BEGIN:VCALENDAR
VERSION:2.0
PRODID:SchoolNow
CALSCALE:GREGORIAN
BEGIN:VEVENT
UID:e32d4200-a2af-11ef-951e-0affe22002af
DTSTAMP:20241114T174258Z
SUMMARY:Caring Campus Meeting
LOCATION:Student Wellness & Success Center
URL;VALUE=URI:https://www.frc.edu/mentalhealth/calendar/7020634/caring-camp
 us-meeting-clone-clone
DTSTART:20241205T020000Z
DTEND:20241205T040000Z
END:VEVENT
END:VCALENDAR
