BEGIN:VCALENDAR
VERSION:2.0
PRODID:SchoolNow
CALSCALE:GREGORIAN
BEGIN:VEVENT
UID:3cc949a0-728a-11ee-8634-0a5cf4152bd5
DTSTAMP:20231024T162835Z
SUMMARY:Veteran's Day
URL;VALUE=URI:https://www.frc.edu/cdc/calendar/4895637/veterans-day
DTSTART;VALUE=DATE:20231110
DTEND;VALUE=DATE:20231112
END:VEVENT
END:VCALENDAR
