BEGIN:VCALENDAR
VERSION:2.0
PRODID:SchoolNow
CALSCALE:GREGORIAN
BEGIN:VEVENT
UID:95c3454c-6218-11ee-a463-0a9d765d54b1
DTSTAMP:20231003T181342Z
SUMMARY:Thanksgiving Break
URL;VALUE=URI:https://www.frc.edu/cdc/calendar/4826274/thanksgiving-break
DTSTART:20231123T160000Z
DTEND:20231125T010000Z
END:VEVENT
END:VCALENDAR
