BEGIN:VCALENDAR
VERSION:2.0
PRODID:SchoolNow
CALSCALE:GREGORIAN
BEGIN:VEVENT
UID:c973648c-23b6-11f1-8e94-0affd3f4938f
DTSTAMP:20260401T214410Z
SUMMARY:ASFRC Student Officer - Ballot Statements
URL;VALUE=URI:https://www.frc.edu/asfrc/calendar/8930983/asfrc-student-offi
 cer-ballot-statements
DTSTART:20260401T150000Z
DTEND:20260427T065500Z
END:VEVENT
END:VCALENDAR
