BEGIN:VCALENDAR
VERSION:2.0
PRODID:SchoolNow
CALSCALE:GREGORIAN
BEGIN:VEVENT
UID:ec3acc74-da2c-11e9-95d7-0a8f0937d6ac
DTSTAMP:20190918T155740Z
SUMMARY:Meet & Greet
LOCATION:Moon's Restaurant in Quincy
URL;VALUE=URI:https://www.frc.edu/alumni/calendar/2097885/meet-greet
DTSTART:20190927T230000Z
DTEND:20190928T010000Z
END:VEVENT
END:VCALENDAR
