BEGIN:VCALENDAR
VERSION:2.0
PRODID:SchoolNow
CALSCALE:GREGORIAN
BEGIN:VEVENT
UID:8b0ebd86-4763-11e9-975f-0aa18c0bc5fc
DTSTAMP:20190315T204829Z
SUMMARY:Children's Fair
LOCATION:Plumas County Fairgrounds
URL;VALUE=URI:https://www.frc.edu/alumni/calendar/1956061/childrens-fair
DTSTART:20190518T170000Z
DTEND:20190518T210000Z
END:VEVENT
END:VCALENDAR
