BEGIN:VCALENDAR
VERSION:2.0
PRODID:SchoolNow
CALSCALE:GREGORIAN
BEGIN:VEVENT
UID:edbf7058-fa40-11e8-bbda-0a6c37037bea
DTSTAMP:20181207T172413Z
SUMMARY:Feather River College Commencement
URL;VALUE=URI:https://www.frc.edu/alumni/calendar/1916675/feather-river-col
 lege-commencement
DTSTART;VALUE=DATE:20190524
DTEND;VALUE=DATE:20190525
END:VEVENT
END:VCALENDAR
