BEGIN:VCALENDAR
VERSION:2.0
PRODID:SchoolNow
CALSCALE:GREGORIAN
BEGIN:VEVENT
UID:2e7d8362-f8d6-11e8-a7b8-126ac353b45a
DTSTAMP:20181207T165207Z
SUMMARY:Quincy Star Follies
URL;VALUE=URI:https://www.frc.edu/alumni/calendar/1913401/quincy-star-folli
 es
DTSTART:20190316T010000Z
DTEND:20190317T060000Z
END:VEVENT
END:VCALENDAR
