BEGIN:VCALENDAR
VERSION:2.0
PRODID:SchoolNow
CALSCALE:GREGORIAN
BEGIN:VEVENT
UID:0d5a83ce-f8d6-11e8-986d-126ac353b45a
DTSTAMP:20181207T165355Z
SUMMARY:Taste of Plumas
URL;VALUE=URI:https://www.frc.edu/alumni/calendar/1913400/taste-of-plumas
DTSTART;VALUE=DATE:20190413
DTEND;VALUE=DATE:20190414
END:VEVENT
END:VCALENDAR
