BEGIN:VCALENDAR
VERSION:2.0
PRODID:SchoolNow
CALSCALE:GREGORIAN
BEGIN:VEVENT
UID:f8cb08f2-f8d5-11e8-86e7-126ac353b45a
DTSTAMP:20181207T165406Z
SUMMARY:Groundhog Day
URL;VALUE=URI:https://www.frc.edu/alumni/calendar/1913399/groundhog-day
DTSTART:20190202T200000Z
DTEND:20190202T220000Z
END:VEVENT
END:VCALENDAR
