BEGIN:VCALENDAR
VERSION:2.0
PRODID:SchoolNow
CALSCALE:GREGORIAN
BEGIN:VEVENT
UID:7a523550-231a-11f1-81c5-0a58a9feac02
DTSTAMP:20260318T223325Z
SUMMARY:Faculty Structured Flex Day
URL;VALUE=URI:https://www.frc.edu/admissions/calendar/8928862/faculty-struc
 tured-flex-day-clone-clone
DTSTART:20260813T150000Z
DTEND:20260814T000000Z
END:VEVENT
END:VCALENDAR
