BEGIN:VCALENDAR
VERSION:2.0
PRODID:SchoolNow
CALSCALE:GREGORIAN
BEGIN:VEVENT
UID:9d3f5f08-0651-11ef-84b6-0affd6d1262f
DTSTAMP:20240429T175646Z
SUMMARY:2024 Graduation Meeting
LOCATION:Gallery RM 320
URL;VALUE=URI:https://www.frc.edu/admissions/calendar/5882012/graduation-me
 eting
DTSTART:20240507T191500Z
DTEND:20240507T201500Z
END:VEVENT
END:VCALENDAR
