BEGIN:VCALENDAR
VERSION:2.0
PRODID:SchoolNow
CALSCALE:GREGORIAN
BEGIN:VEVENT
UID:0d318b20-24de-11ee-9d1a-0a58a9feac02
DTSTAMP:20230717T201101Z
SUMMARY:Last day to enroll in and/or drop second-half-semester classes 100%
  refund
URL;VALUE=URI:https://www.frc.edu/admissions/calendar/4500121/last-day-to-e
 nroll-in-and-or-drop-second-half-semester-classes-100-refund-clone-clone-c
 lone
DTSTART;VALUE=DATE:20240329
DTEND;VALUE=DATE:20240330
END:VEVENT
END:VCALENDAR
