BEGIN:VCALENDAR
VERSION:2.0
PRODID:SchoolNow
CALSCALE:GREGORIAN
BEGIN:VEVENT
UID:6a2d5946-24dc-11ee-a51e-028ca856f669
DTSTAMP:20230717T195918Z
SUMMARY:Last day to change grading option between Grade or Pass/No Pass for
  full term classes
URL;VALUE=URI:https://www.frc.edu/admissions/calendar/4500109/last-day-to-c
 hange-grading-option-between-grade-or-pass-no-pass-for-full-term-classes-c
 lone
DTSTART;VALUE=DATE:20240517
DTEND;VALUE=DATE:20240518
END:VEVENT
END:VCALENDAR
