BEGIN:VCALENDAR
VERSION:2.0
PRODID:SchoolNow
CALSCALE:GREGORIAN
BEGIN:VEVENT
UID:5185e228-24dc-11ee-a1e7-0a58a9feac02
DTSTAMP:20230717T195837Z
SUMMARY:Last day to drop second-half-semester classes with a “W”
URL;VALUE=URI:https://www.frc.edu/admissions/calendar/4500108/last-day-to-d
 rop-second-half-semester-classes-with-a-w-clone-clone-clone
DTSTART;VALUE=DATE:20240503
DTEND;VALUE=DATE:20240504
END:VEVENT
END:VCALENDAR
