BEGIN:VCALENDAR
VERSION:2.0
PRODID:SchoolNow
CALSCALE:GREGORIAN
BEGIN:VEVENT
UID:e3ac8270-24db-11ee-b2e3-0a58a9feac02
DTSTAMP:20230717T195533Z
SUMMARY:Fall 2024 registration for non-matriculated new and continuing stud
 ents begins
URL;VALUE=URI:https://www.frc.edu/admissions/calendar/4500107/spring-2023-r
 egistration-for-non-matriculated-new-and-continuing-students-begins-clone-
 clone
DTSTART;VALUE=DATE:20240429
DTEND;VALUE=DATE:20240430
END:VEVENT
END:VCALENDAR
